BEGIN:VCALENDAR
VERSION:2.0
PRODID:-//IORA - Institute of Operations Research and Analytics - ECPv6.15.11//NONSGML v1.0//EN
CALSCALE:GREGORIAN
METHOD:PUBLISH
X-ORIGINAL-URL:https://iora.nus.edu.sg
X-WR-CALDESC:Events for IORA - Institute of Operations Research and Analytics
REFRESH-INTERVAL;VALUE=DURATION:PT1H
X-Robots-Tag:noindex
X-PUBLISHED-TTL:PT1H
BEGIN:VTIMEZONE
TZID:Asia/Singapore
BEGIN:STANDARD
TZOFFSETFROM:+0800
TZOFFSETTO:+0800
TZNAME:+08
DTSTART:20200101T000000
END:STANDARD
END:VTIMEZONE
BEGIN:VEVENT
DTSTART;TZID=Asia/Singapore:20210226T100000
DTEND;TZID=Asia/Singapore:20210226T110000
DTSTAMP:20260419T214518
CREATED:20210224T074018Z
LAST-MODIFIED:20210301T083122Z
UID:10098-1614333600-1614337200@iora.nus.edu.sg
SUMMARY:IORA Seminar Series | 26 Feb | 10am
DESCRIPTION:Extensive research has shown that human decision makers in operations and supply chains are often influenced by cognitive biases and social preferences\, and as a consequence fail to achieve the optimal performance prescribed by normative operations theories.  In this talk\, we will discuss how behavioral factors affect decisions and economic outcomes in two operations management settings.  In the first setting\, we analyze how cognitive biases affect inventory decisions when biases are endogenously given in competition.  In the second setting\, we study how fairness and competition interact in a supply chain of one supplier and two retailers.  In both settings\, we find that the presence of competition can reverse the impact that the behavioral factors have on decision and performance in individual settings. \n  \n\n\n\nName of Speaker\n  \nA/P Wu Yaozhong \n \n\n\nSchedule \n  \nFriday 26 Feb 2021 \, 10am \n \n\n\nLink \nhttps://nus-sg.zoom.us/j/85139484987?pwd=TE1OMDNnSkwwNEwxQ2xjbTJ4MVQvUT09 \n\n\n\nJoin our Cloud HD Video Meeting \nZoom is the leader in modern enterprise video communications\, with an easy\, reliable cloud platform for video and audio conferencing\, chat\, and webinars across mobile\, desktop\, and room systems. Zoom Rooms is the original software-based conference room solution used around the world in board\, conference\, huddle\, and training rooms\, as well as executive offices and classrooms. Founded in 2011\, Zoom helps businesses and organizations bring their teams together in a frictionless environment to get more done. Zoom is a publicly traded company headquartered in San Jose\, CA. \nnus-sg.zoom.us\n\n\n\n\n\n\nID\n851 3948 4987\n\n\nPassword\n000323\n\n\nTitle \n  \nUnderstanding the role of behavioral factors in competitive operations and supply chains \n \n\n\nAbstract \n  \nExtensive research has shown that human decision makers in operations and supply chains are often influenced by cognitive biases and social preferences\, and as a consequence fail to achieve the optimal performance prescribed by normative operations theories.  In this talk\, we will discuss how behavioral factors affect decisions and economic outcomes in two operations management settings.  In the first setting\, we analyze how cognitive biases affect inventory decisions when biases are endogenously given in competition.  In the second setting\, we study how fairness and competition interact in a supply chain of one supplier and two retailers.  In both settings\, we find that the presence of competition can reverse the impact that the behavioral factors have on decision and performance in individual settings. \n \n\n\nAbout the Speaker\n  \nYaozhong Wu is an Associate Professor of Analytics and Operations at the NUS Business School. He received his Ph.D. in Technology and Operations Management from INSEAD. His main research interests are in the field of behavioral operations management. His papers have appeared in academic journals\, such as Management Science\, Operations Research\, Manufacturing & Service Operations Management\, Production and Operations Management\, and Journal of Operations Management.  A co-authored paper won the second place in the Wickham Skinner Awards for Best Paper Published in Production and Operations Management in 2014.  Another co-authored paper won the Best Working Paper Award of the INFORMS Behavioral Operations Management Section in 2016. Currently\, he serves as a senior editor for Production and Operations Management.\n\n\n\n 
URL:https://iora.nus.edu.sg/events/iora-seminar-series-26-feb-10am/
ATTACH;FMTTYPE=image/jpeg:https://iora.nus.edu.sg/wp-content/uploads/2021/01/Wu-Yaozhong.jpg
END:VEVENT
END:VCALENDAR