BEGIN:VCALENDAR
VERSION:2.0
PRODID:-//IORA - Institute of Operations Research and Analytics - ECPv6.15.11//NONSGML v1.0//EN
CALSCALE:GREGORIAN
METHOD:PUBLISH
X-WR-CALNAME:IORA - Institute of Operations Research and Analytics
X-ORIGINAL-URL:https://iora.nus.edu.sg
X-WR-CALDESC:Events for IORA - Institute of Operations Research and Analytics
REFRESH-INTERVAL;VALUE=DURATION:PT1H
X-Robots-Tag:noindex
X-PUBLISHED-TTL:PT1H
BEGIN:VTIMEZONE
TZID:Asia/Singapore
BEGIN:STANDARD
TZOFFSETFROM:+0800
TZOFFSETTO:+0800
TZNAME:+08
DTSTART:20240101T000000
END:STANDARD
END:VTIMEZONE
BEGIN:VEVENT
DTSTART;TZID=Asia/Singapore:20250220T100000
DTEND;TZID=Asia/Singapore:20250220T110000
DTSTAMP:20260421T143702
CREATED:20250214T070448Z
LAST-MODIFIED:20250214T070448Z
UID:25086-1740045600-1740049200@iora.nus.edu.sg
SUMMARY:DAO-ISEM-IORA Seminar Series: Jong-Shi Pang
DESCRIPTION:Name of Speaker\nJong-Shi Pang\n\n\nSchedule\n20 February 2025\, 10am – 11am\n\n\nVenue \nE1-07-21/22 – ISEM Executive Classroom\n\n\nLink to Register \n \nhttps://nus-sg.zoom.us/j/89954075233?pwd=HWYCdpXSJy2T6aCirNUZgUJhO9RYHd.1\n\n\nTitle\nHeaviside Composite Optimization: A New Paradigm in Optimization\n\n\nAbstract\nThis talk introduces the topic of Heaviside composite optimization and briefly covers its many facets: breadth in modeling\, roles in old and new applications\, theory of optimizers and stationary solutions\, bridge with discrete optimization\, and the progressive integer programming method.   By definition\, a univariate Heaviside function is the (discontinuous) indicator of an interval.  By its name\, a Heaviside composite function is the composition of a Heaviside function with a continuous multivariate function that may be nonconvex and nondifferentiable.  While very natural in modeling many physical phenomena\, a Heaviside composite optimization problem\, possibly with Heaviside composite functional constraints\, has never been formally studied.  Our work aims to fill this void with a comprehensive research program covering the applications\, theory\, and algorithms for this novel class of very challenging optimization problems.\n\n\nAbout the Speaker\nElected a member of the National Academy of Engineering in February 2021 and appointed a Distinguished Professor in April 2023\, Jong-Shi Pang joined the University of Southern California as the Epstein Family Chair and Professor of Industrial and Systems Engineering in August 2013. Prior to this position\, he was the Caterpillar Professor and Head of the Department of Industrial and Enterprise Systems Engineering at the University of Illinois at Urbana-Champagne for six years between 2007 and 2013. He held the position of the Margaret A. Darrin Distinguished Professor in Applied Mathematics in the Department of Mathematical Sciences and was a Professor of Decision Sciences and Engineering Systems at Rensselaer Polytechnic Institute from 2003 to 2007. He was a Professor in the Department of Mathematical Sciences at the Johns Hopkins University from 1987 to 2003\, an Associate Professor and then Professor in the School of Management from 1982 to 1987 at the University of Texas at Dallas\, and an Assistant and then an Associate Professor in the Graduate School of Industrial Administration at Carnegie-Mellon University from 1977 to 1982. During 1999 and 2001 (full time) and 2002 (part-time)\, he was a Program Director in the Division of Mathematical Sciences at the National Science Foundation. Professor Pang has served as the Department Academic Advisor of the Department of Mathematics at the Hong Kong Polytechnic University. He has given many distinguished lectures at universities worldwide and plenary lectures at international conferences.
URL:https://iora.nus.edu.sg/events/dao-isem-iora-seminar-series-jong-shi-pang/
CATEGORIES:IORA Seminar Series
END:VEVENT
END:VCALENDAR