BEGIN:VCALENDAR
VERSION:2.0
PRODID:-//IORA - Institute of Operations Research and Analytics - ECPv6.15.11//NONSGML v1.0//EN
CALSCALE:GREGORIAN
METHOD:PUBLISH
X-WR-CALNAME:IORA - Institute of Operations Research and Analytics
X-ORIGINAL-URL:https://iora.nus.edu.sg
X-WR-CALDESC:Events for IORA - Institute of Operations Research and Analytics
REFRESH-INTERVAL;VALUE=DURATION:PT1H
X-Robots-Tag:noindex
X-PUBLISHED-TTL:PT1H
BEGIN:VTIMEZONE
TZID:Asia/Singapore
BEGIN:STANDARD
TZOFFSETFROM:+0800
TZOFFSETTO:+0800
TZNAME:+08
DTSTART:20230101T000000
END:STANDARD
END:VTIMEZONE
BEGIN:VEVENT
DTSTART;TZID=Asia/Singapore:20240319T100000
DTEND;TZID=Asia/Singapore:20240319T113000
DTSTAMP:20260421T090750
CREATED:20240311T030605Z
LAST-MODIFIED:20240311T030605Z
UID:21418-1710842400-1710847800@iora.nus.edu.sg
SUMMARY:DAO-IORA Seminar Series - Zhu Weiming
DESCRIPTION:  \n\n\n\n\nName of Speaker\nZhu Weiming\n\n\nSchedule\n19 March 2024\, 10am – 11.30am\n\n\nVenue\nBIZ1-0206\n\n\nLink to Register\nhttps://nus-sg.zoom.us/meeting/register/tZcvdu-rpzkuHNTHWtUz_oEaagwlXP1_FVHp\n\n\nTitle\nExtracting Efficiency from Chaos: Rider Behavior\, Performance and Negative Externality in Dockless Bike Sharing Systems\n\n\nAbstract\nIn recent years\, urban bike-sharing systems developed in two main forms: Dock-based systems that rely on fixed location docks to park at and pick up bicycles from\, and Dockless systems which allow users to pick up and drop off bikes anywhere. By eliminating reliance on fixed docks\, dockless systems provide significantly improved mobility and convenience to riders\, yet they have downsides such as high operational costs and occupying valuable sidewalk space. Collaborating with a major dockless bike-sharing platform\, we empirically analyze riders’ economic incentives\, explore the efficiency and measure the negative externality of this business model. Specifically\, we address the following questions: (i) What is the impact of the number of bicycles in the system on efficiency? (ii) How does the efficiency of dockless and dock-based systems compare? (iii) How can bike-share company minimize the negative externalities generated during service provision through smart relocation?\n\n\nAbout the Speaker\nWeiming Zhu is an Associate Professor in Innovation and Information Management at HKU Business School. Weiming obtained his bachelor’s degree in Physics from HKUST and Ph.D. in Operations Management from the Robert H. Smith School of Business at University of Maryland. Prior to joining the University of Hong Kong\, he was an Associate Professor in IESE’s Department of Production\, Technology and Operations Management. Weiming has also been a visiting professor in the Institute for Data\, Systems\, and Society (IDSS) at Massachusetts Institute of Technology and Kellogg School of Management at Northwestern University. Weiming’s research interests include operations in the platform economy\, urban mobility\, and supply chain finance. His work has been published at Management Science\, M&SOM and Journal of International Economics\, and has been recognized in M&SOM\, POMS\, Service Science and CSAMSE best paper award competitions.\n\n\n\n\n 
URL:https://iora.nus.edu.sg/events/dao-iora-seminar-series-zhu-weiming/
CATEGORIES:IORA Seminar Series
END:VEVENT
END:VCALENDAR