BEGIN:VCALENDAR
VERSION:2.0
PRODID:-//IORA - Institute of Operations Research and Analytics - ECPv6.15.11//NONSGML v1.0//EN
CALSCALE:GREGORIAN
METHOD:PUBLISH
X-WR-CALNAME:IORA - Institute of Operations Research and Analytics
X-ORIGINAL-URL:https://iora.nus.edu.sg
X-WR-CALDESC:Events for IORA - Institute of Operations Research and Analytics
REFRESH-INTERVAL;VALUE=DURATION:PT1H
X-Robots-Tag:noindex
X-PUBLISHED-TTL:PT1H
BEGIN:VTIMEZONE
TZID:Asia/Singapore
BEGIN:STANDARD
TZOFFSETFROM:+0800
TZOFFSETTO:+0800
TZNAME:+08
DTSTART:20230101T000000
END:STANDARD
END:VTIMEZONE
BEGIN:VEVENT
DTSTART;TZID=Asia/Singapore:20240126T100000
DTEND;TZID=Asia/Singapore:20240126T113000
DTSTAMP:20260423T020238
CREATED:20240119T120215Z
LAST-MODIFIED:20240119T120215Z
UID:19350-1706263200-1706268600@iora.nus.edu.sg
SUMMARY:DAO-IORA Seminar Series - Zhan Ruohan
DESCRIPTION:  \n\n\n\nName of Speaker\nZhan Ruohan\n\n\nSchedule\n26 January 2024\, 10am – 11.30am\n\n\nVenue  \nI4-01-03\n\n\nLink to Register \nhttps://nus-sg.zoom.us/meeting/register/tZApdeirrD8uGdK8Z3tiW6Can4XywK0kVD4C\n\n\nTitle \nEstimation and Inference under Recommender Interference\n\n\nAbstract\nIn digital platforms\, recommender systems (RecSys) are essential for aligning content with viewer preferences. This work considers the evaluation of RecSys updates\, referred to as “treatments”\, by analyzing their “global treatment effect” (GTE) – the expected overall benefit of universally applying these treatments. Our focus is on treatments targeting content creators. We utilize A/B experiments on the creator side and identify that the conventional difference-in-mean estimator is biased for GTE estimation\, due to interference among creators competing for visibility. To address this challenge\, we introduce a semi-parametric model that combines a parametric choice model\, designed to streamline the recommendation process\, with a nonparametric component that employs machine learning to account for the heterogeneity among viewers and content. Using this model\, we approximate GTE with a doubly robust estimator that satisfies Neyman orthogonality\, ensuring consistency and asymptotic normality\, and supporting hypothesis testing. We show the robustness and semiparametric efficiency of our estimator even under model mis-specification. We demonstrate the efficacy of our method through simulations and practical applications on a leading short video platform. This is joint work with Shichao Han\, Yuchen Hu\, and Zhenling Jiang.\n\n\nAbout the Speaker \nRuohan Zhan is an assistant professor in the Department of Industrial Engineering and Decision Analytics at the Hong Kong University of Science and Technology. She earned her PhD from Stanford University and her BS from Peking University. Specializing in causal inference\, statistics\, and machine learning\, Ruohan develops new methods to solve problems from online marketplaces\, particularly on challenges related to causal effect identification\, economic analysis\, experimentation and operations. Her research has been published in top-tier journals including Management Science and Proceedings of National Academy of Sciences\, as well as leading machine learning conferences including NeurIPS\, ICLR\, WWW\, and KDD.\n\n\n\n  \n  \n 
URL:https://iora.nus.edu.sg/events/dao-iora-seminar-series-zhan-ruohan/
CATEGORIES:IORA Seminar Series
END:VEVENT
END:VCALENDAR