BEGIN:VCALENDAR
VERSION:2.0
PRODID:-//IORA - Institute of Operations Research and Analytics - ECPv6.15.11//NONSGML v1.0//EN
CALSCALE:GREGORIAN
METHOD:PUBLISH
X-WR-CALNAME:IORA - Institute of Operations Research and Analytics
X-ORIGINAL-URL:https://iora.nus.edu.sg
X-WR-CALDESC:Events for IORA - Institute of Operations Research and Analytics
REFRESH-INTERVAL;VALUE=DURATION:PT1H
X-Robots-Tag:noindex
X-PUBLISHED-TTL:PT1H
BEGIN:VTIMEZONE
TZID:Asia/Singapore
BEGIN:STANDARD
TZOFFSETFROM:+0800
TZOFFSETTO:+0800
TZNAME:+08
DTSTART:20230101T000000
END:STANDARD
END:VTIMEZONE
BEGIN:VEVENT
DTSTART;TZID=Asia/Singapore:20240322T100000
DTEND;TZID=Asia/Singapore:20240322T113000
DTSTAMP:20260420T213925
CREATED:20240315T084423Z
LAST-MODIFIED:20240315T084423Z
UID:21570-1711101600-1711107000@iora.nus.edu.sg
SUMMARY:DAO-IORA Seminar Series - Sasa Zorc
DESCRIPTION:  \n\n\n\n\nName of Speaker\nSasa Zorc\n\n\nSchedule\n22 March 2024\, 10am – 11.30am\n\n\nVenue\nBIZ1-0206\n\n\nLink to Register \n \nhttps://nus-sg.zoom.us/meeting/register/tZIpce2srDwrHdyCUf-w1Rtdh_3c-YlU9nTz\n\n\nTitle\nSearch with Recall and Gaussian Learning\n\n\nAbstract\nThe classic sequential search problem rewards the decision maker with the highest sampled value\, minus a cost per sample. If the sampling distribution is unknown\, then a Bayesian decision maker faces a complex balance between exploration and exploitation. We solve the stopping problem of sampling from a Normal distribution with unknown mean and unknown variance and a conjugate prior\, a longstanding open problem. The optimal stopping region may be empty (it may be optimal to continue the search regardless of the offer one receives\, especially at the early stages)\, or it may consist of one or two bounded intervals. While a single reservation price cannot describe the optimal rule\, we do find a standardized reservation rule: stop if and only if the standardized value of the current offer is sufficiently high relative to the standardized search cost. We also introduce the index function\, which provides a computationally practical way to implement the standardized stopping rule for any given prior\, sampling history\, and sampling horizon.\n\n\nAbout the Speaker\nSasa Zorc is an assistant professor at the Darden School of Business\, University of Virginia. Sasa obtained his PhD in Management from INSEAD. He studies incentives in multi-agent systems such as health care and matching markets (both centralized and decentralized). Methodologically\, his research relies on stochastic dynamic games\, search theory\, dynamic mechanism design\, contract theory and data-driven simulations.
URL:https://iora.nus.edu.sg/events/dao-iora-seminar-series-sasa-zorc/
CATEGORIES:IORA Seminar Series
END:VEVENT
END:VCALENDAR