BEGIN:VCALENDAR
VERSION:2.0
PRODID:-//IORA - Institute of Operations Research and Analytics - ECPv6.15.11//NONSGML v1.0//EN
CALSCALE:GREGORIAN
METHOD:PUBLISH
X-WR-CALNAME:IORA - Institute of Operations Research and Analytics
X-ORIGINAL-URL:https://iora.nus.edu.sg
X-WR-CALDESC:Events for IORA - Institute of Operations Research and Analytics
REFRESH-INTERVAL;VALUE=DURATION:PT1H
X-Robots-Tag:noindex
X-PUBLISHED-TTL:PT1H
BEGIN:VTIMEZONE
TZID:Asia/Singapore
BEGIN:STANDARD
TZOFFSETFROM:+0800
TZOFFSETTO:+0800
TZNAME:+08
DTSTART:20240101T000000
END:STANDARD
END:VTIMEZONE
BEGIN:VEVENT
DTSTART;TZID=Asia/Singapore:20250905T100000
DTEND;TZID=Asia/Singapore:20250905T113000
DTSTAMP:20260423T070735
CREATED:20250901T085409Z
LAST-MODIFIED:20250901T085409Z
UID:27041-1757066400-1757071800@iora.nus.edu.sg
SUMMARY:DAO-ISEM-IORA Seminar Series: Victor Martínez de Albéniz
DESCRIPTION:Name of Speaker\nVictor Martínez de Albéniz\n\n\nSchedule\n5 September 2025\, 10am – 11.30am\n\n\nVenue \nHSS 4 – 7 (Hon Sui Sen Memorial Library\, level 4 Seminar Room)\n\n\nLink to Register \n \nhttps://nus-sg.zoom.us/meeting/register/kZSaUc7SR_GuEKdg2LC_SA\n\n\nTitle\nDigital Nudges at the Van Gogh Museum Increase Engagement\, Pace Visitors\, and Reduce Congestion\n\n\nAbstract\nDigital nudges have the potential to enrich experiential services\, but little is known about how they affect behaviors in the field. From 2022 to 2024\, we run field experiments at the Van Gogh Museum\, testing the effect of interventions on the multimedia tour on visitor content consumption and movements. We find that providing that providing a highlight selection with a simple information architecture can increase consumption\, coverage of the collection\, without requiring more visit duration\, thereby containing museum fatigue. Furthermore\, faster visitor flows reduce congestion\, creating a positive externality on others. Thus\, well-designed digital nudges can produce more effective visits\, that improve both consumer and service provider outcomes.\n\n\nAbout the Speaker\nVictor Martínez de Albéniz is a Full Professor in the Operations\, Information and Technology Department at IESE Business School. He joined IESE in 2004 after earning a PhD from the Operations Research Center at the Massachusetts Institute of Technology (MIT) and an engineering degree from École Polytechnique in France. \nHis research spans a broad spectrum of Operations Management. He began his career working on supply chain management\, optimizing inventory and purchasing systems to combine low costs with flexibility and innovation. He then moved into the retail sector\, developing fashion trend forecasts\, leveraging big data to respond to demand shocks\, and optimizing the in-store customer experience. More recently\, he has applied his expertise to improving education systems. \nFor more information\, please see https://blog.iese.edu/martinezdealbeniz/
URL:https://iora.nus.edu.sg/events/dao-isem-iora-seminar-series-victor-martinez-de-albeniz/
CATEGORIES:IORA Seminar Series
END:VEVENT
END:VCALENDAR