BEGIN:VCALENDAR
VERSION:2.0
PRODID:-//IORA - Institute of Operations Research and Analytics - ECPv6.15.11//NONSGML v1.0//EN
CALSCALE:GREGORIAN
METHOD:PUBLISH
X-ORIGINAL-URL:https://iora.nus.edu.sg
X-WR-CALDESC:Events for IORA - Institute of Operations Research and Analytics
REFRESH-INTERVAL;VALUE=DURATION:PT1H
X-Robots-Tag:noindex
X-PUBLISHED-TTL:PT1H
BEGIN:VTIMEZONE
TZID:Asia/Singapore
BEGIN:STANDARD
TZOFFSETFROM:+0800
TZOFFSETTO:+0800
TZNAME:+08
DTSTART:20240101T000000
END:STANDARD
END:VTIMEZONE
BEGIN:VEVENT
DTSTART;TZID=Asia/Singapore:20250312T100000
DTEND;TZID=Asia/Singapore:20250312T113000
DTSTAMP:20260426T001850
CREATED:20250307T023504Z
LAST-MODIFIED:20250307T023504Z
UID:25880-1741773600-1741779000@iora.nus.edu.sg
SUMMARY:DAO-ISEM-IORA Seminar Series : Lim Yun Fong
DESCRIPTION:Name of Speaker\nLim Yun Fong\n\n\nSchedule\n12 March 2025\, 10am – 11.30am\n\n\nVenue \nBIZ2-0413B\n\n\nLink to Register\nhttps://nus-sg.zoom.us/meeting/register/WYuc2F2xQmuBpvxASTlXcg\n\n\nTitle\nIntegrating EV Charging and Discharging into Power Grid Through Bilateral Negotiation\n\n\nAbstract\nTo deal with demand uncertainty on a power grid\, a power plant with limited ramping capability can collaborate with an electric vehicle (EV) company. With proper charging and discharging prices\, the EV company voluntarily withdraws electricity from or returns electricity to the power grid in suitable phases. We model the two parties’ interactions as a bargaining game on the prices\, followed by the EV company’s charging and discharging problem and the power plant’s electricity generation problem. To solve this bargaining game\, we propose a novel “Guess and Verify” approach. Specifically\, we first find an optimal solution within a restricted price set in which the two parties’ total cost is minimized\, and then verify its global optimality. Under an equilibrium contract\, we find that the power plant can reduce its expected cost from the collaboration. This is because the EV company fully charges in a low electricity demand phase\, reducing the power plant’s curtailment cost\, and fully discharges to the power grid in a high electricity demand phase\, lowering the power plant’s electricity generation cost. Based on real data\, our numerical experiments suggest that the EV company’s charging and discharging can substantially harmonize the power flow within the grid and save significant cost\, especially when the electricity demand gap across different phases increases or the power plant’s ramping capability decreases. Surprisingly\, the EV company’s percentage cost saving can exceed 100%\, implying that it can make a profit from the collaboration. For the power plant\, the percentage cost saving is 2-7%.\n\n\nAbout the Speaker\nYun Fong LIM is Professor of Operations Management at the Lee Kong Chian School of Business\, Singapore Management University (SMU). He has been a Chang Jiang Chair Professor\, Lee Kong Chian Fellow\, MPA Research Fellow\, and NOL Fellow. Yun Fong’s research has appeared in Operations Research\, Management Science\, Manufacturing and Service Operations Management\, and Production and Operations Management. He has delivered keynote and plenary speeches in several international conferences. In addition\, his work has received funding by MOE\, A*STAR\, RGC-HK\, and NNSF\, and media coverage by Financial Times\, The Business Times\, CNA938\, and Channel 8. His current research interests include online retailing (supply chains and fulfillment)\, online platforms (business model innovations)\, sustainable urban systems\, and flexible workforce and resource management. Yun Fong serves as Senior Editor for Production and Operations Management and Associate Editor for Naval Research Logistics. He has placed his PhD students and postdoc to CUHK (Shenzhen)\, USTC\, SUSS\, and ShanghaiTech as well as supervised some DBA students who lead influential firms in China. \nAt SMU\, Yun Fong founded the OM PhD Program. He also served as Academic Director of the Master of Science in Management (MiM) Program in 2020-2023 and played an instrumental role in elevating the program from 83rd to 41st worldwide in the Financial Times Rankings. Yun Fong is a recipient of the SMU Teaching Excellence Innovative Teacher Award. He teaches both undergraduate and postgraduate courses in Operations Management. He has provided consulting service and executive development to corporations such as Alibaba\, Maersk\, McMaster-Carr Company\, Resorts World Sentosa\, Schneider Electrics\, Temasek Holdings\, and Zalora. Yun Fong obtained both his PhD and MSc degrees in Industrial and Systems Engineering from the Georgia Institute of Technology.
URL:https://iora.nus.edu.sg/events/dao-isem-iora-seminar-series-lim-yun-fong/
CATEGORIES:IORA Seminar Series
END:VEVENT
END:VCALENDAR