BEGIN:VCALENDAR
VERSION:2.0
PRODID:-//IORA - Institute of Operations Research and Analytics - ECPv6.15.11//NONSGML v1.0//EN
CALSCALE:GREGORIAN
METHOD:PUBLISH
X-ORIGINAL-URL:https://iora.nus.edu.sg
X-WR-CALDESC:Events for IORA - Institute of Operations Research and Analytics
REFRESH-INTERVAL;VALUE=DURATION:PT1H
X-Robots-Tag:noindex
X-PUBLISHED-TTL:PT1H
BEGIN:VTIMEZONE
TZID:Asia/Singapore
BEGIN:STANDARD
TZOFFSETFROM:+0800
TZOFFSETTO:+0800
TZNAME:+08
DTSTART:20230101T000000
END:STANDARD
END:VTIMEZONE
BEGIN:VEVENT
DTSTART;VALUE=DATE:20240828
DTEND;VALUE=DATE:20240830
DTSTAMP:20260421T234323
CREATED:20240808T022259Z
LAST-MODIFIED:20240808T023501Z
UID:22986-1724803200-1724975999@iora.nus.edu.sg
SUMMARY:Analytics for X 2024
DESCRIPTION:The Institute of Operations Research and Analytics (IORA)\, Department of Industrial Systems Engineering and Management (College of Design and Engineering) and Department of Analytics and Operations (NUS Business School) of the National University of Singapore are proud to jointly host the Analytics for X 2024 conference in conjunction with the  Next-Gen Scholars Symposium on 28-29 August 2024. \nAnalytics for X is an Annual Conference hosted by IORA that brings together researchers\, educators\, consultants\, practitioners\, and students to contribute to the Fourth Industrial Revolution conversation. After a successful international event in 2023 in Chongqing\, China\, this year\, the conference is back in Singapore. As an annual event\, the conference aims to promote the regular enhancement and dissemination of knowledge related to operations research and analytics\, as well as efficient industrial practices. \nDuring this year’s event\, we are excited to announce the inaugural Next-Gen Scholars Symposium. This symposium\, exclusive to PhD students\, aims to recognize outstanding scholars in Analytics\, Operations Research (OR) and Operations Management (OM) who are nearing the completion of their PhD\, typically within a year or two. It is dedicated to honoring and accelerating the paths of outstanding young scholars who find themselves at a pivotal stage in their academic journey. The symposium will feature the groundbreaking research of these emerging scholars\, and offer them a platform to engage with and learn from the Analytics & OR/OM community\, as well as efficient industrial practices through networking opportunities.
URL:https://iora.nus.edu.sg/events/analytics-for-x-2024/
LOCATION:Innovation 4.0\, Level 1\, 3 Research Link\, 117602\, Singapore
CATEGORIES:Analytics For X
END:VEVENT
END:VCALENDAR