BEGIN:VCALENDAR
VERSION:2.0
PRODID:-//IORA - Institute of Operations Research and Analytics - ECPv6.15.11//NONSGML v1.0//EN
CALSCALE:GREGORIAN
METHOD:PUBLISH
X-ORIGINAL-URL:https://iora.nus.edu.sg
X-WR-CALDESC:Events for IORA - Institute of Operations Research and Analytics
REFRESH-INTERVAL;VALUE=DURATION:PT1H
X-Robots-Tag:noindex
X-PUBLISHED-TTL:PT1H
BEGIN:VTIMEZONE
TZID:Asia/Singapore
BEGIN:STANDARD
TZOFFSETFROM:+0800
TZOFFSETTO:+0800
TZNAME:+08
DTSTART:20230101T000000
END:STANDARD
END:VTIMEZONE
BEGIN:VEVENT
DTSTART;TZID=Asia/Singapore:20240313T100000
DTEND;TZID=Asia/Singapore:20240313T113000
DTSTAMP:20260424T132224
CREATED:20240307T031244Z
LAST-MODIFIED:20240307T031244Z
UID:20941-1710324000-1710329400@iora.nus.edu.sg
SUMMARY:DAO-IORA Seminar Series - Zhang Fuqiang
DESCRIPTION:  \n\n\n\nName of Speaker\nZhang Fuqiang\n\n\nSchedule\n13 March 2024\, 10am – 11.30am\n\n\nVenue \nBIZ1-0307\n\n\nLink to Register \n \nhttps://nus-sg.zoom.us/meeting/register/tZUvdu2grDItHdZl1LhIH4lgx0-lY42S7eks\n\n\nTitle\nThe Bright Side of Price Volatility in Global Commodity Procurement\n\n\nAbstract\nThis paper studies two competing firms’ choices between the contingent-price contract (CPC) and fixed-price contract (FPC) in global commodity procurement. The FPC price is determined when signing the contract\, whereas the CPC price is pegged to an underlying index and remains open until the delivery date. Under both contracts\, each firm determines its order quantity based on the updated belief about the market demand. The unrealized CPC price correlates with the market demand\, allowing a firm to update its belief about the CPC price using demand information\, thereby generating a price-learning effect. We find that\, contrary to conventional wisdom\, a larger price volatility could benefit the firms\, and\, under differentiated contracts\, a firm might benefit from the improvement of forecast accuracy at its rival. We further show that the price-learning effect plays a critical role in the firms’ contract choices. First\, significant price volatility forces the firms to pursue the responsiveness of the CPC. Second\, the firms may adopt differentiated contracts to enhance their responses to market changes and dampen competition\, and a higher competition intensity more likely leads to contract differentiation. Third\, the firms in a small market seek responsiveness and contract differentiation rather than cost efficiency. This study reveals the bright side of price volatility and takes a step toward understanding the effect of two-dimensional information updating.\n\n\nAbout the Speaker\nFuqiang Zhang is the Dan Broida professor of Supply Chain\, Operations\, and Technology (SCOT) at Olin Business School\, Washington University in St. Louis. He also serves as the SCOT area chair and academic director of MBA programs at Olin. Professor Zhang obtained his Ph.D. in Managerial Science and Applied Economics from the Wharton School\, University of Pennsylvania. His research interests focus on supply chain and technology innovation\, consumer analytics in operations management\, and sustainable operations. In recent years\, he has been working on research topics that are driven by empirical data. Professor Zhang’s research has appeared in top-tier academic journals such as Management Science\, Manufacturing & Service Operations Management\, Operations Research\, Marketing Science\, and Production and Operations Management.\n\n\n\n 
URL:https://iora.nus.edu.sg/events/dao-iora-seminar-series-zhang-fuqiang/
CATEGORIES:IORA Seminar Series
END:VEVENT
END:VCALENDAR