BEGIN:VCALENDAR
VERSION:2.0
PRODID:-//IORA - Institute of Operations Research and Analytics - ECPv6.15.11//NONSGML v1.0//EN
CALSCALE:GREGORIAN
METHOD:PUBLISH
X-WR-CALNAME:IORA - Institute of Operations Research and Analytics
X-ORIGINAL-URL:https://iora.nus.edu.sg
X-WR-CALDESC:Events for IORA - Institute of Operations Research and Analytics
REFRESH-INTERVAL;VALUE=DURATION:PT1H
X-Robots-Tag:noindex
X-PUBLISHED-TTL:PT1H
BEGIN:VTIMEZONE
TZID:Asia/Singapore
BEGIN:STANDARD
TZOFFSETFROM:+0800
TZOFFSETTO:+0800
TZNAME:+08
DTSTART:20230101T000000
END:STANDARD
END:VTIMEZONE
BEGIN:VEVENT
DTSTART;TZID=Asia/Singapore:20240308T100000
DTEND;TZID=Asia/Singapore:20240308T113000
DTSTAMP:20260425T185217
CREATED:20240304T031806Z
LAST-MODIFIED:20240304T031806Z
UID:20807-1709892000-1709897400@iora.nus.edu.sg
SUMMARY:DAO-IORA Seminar Series - Kimon Drakopoulos
DESCRIPTION:Name of Speaker\nKimon Drakopoulos\n\n\nSchedule\n8 March 2024\, 10am – 11.30am\n\n\nVenue \nBIZ1- 0206\n\n\nLink to Register\nhttps://nus-sg.zoom.us/meeting/register/tZ0scuyqrT4vGtDnHl1AToXlPUExri0y7Suq\n\n\nTitle\nBlockchain Mediated Persuasion\n\n\nAbstract\nAn ex-post informed Sender wishes to persuade a rational Bayesian Receiver to take a desired action\, as in the classic Bayesian Persuasion model studied by Kamenica and Gentzkow (2011). However\, we consider settings in which Sender cannot reliably commit to a signal mechanism. An alternative approach is to consider a trustworthy mediator that receives a reported state of the world from Sender and then\, based on this report\, generates a signal realization for Receiver. Such mediation can be implemented via costly blockchain technology. Surprisingly\, we show that this cost differentiated mediation succeeds where free mediation fails. By requiring Sender to pay the mediator for different signal realizations\, we can effectively incentivize them to truthfully report\, which in turn allows for beneficial persuasion to take place. Joint with Justin Mulvany\, Irene Lo\n\n\nAbout the Speaker\nKimon Drakopoulos is an Associate Professor in Business Administration at the Data Sciences and Operations department at the USC Marshall School of Business. His research focuses on the operations of complex networked systems\, social networks\, stochastic modeling\, game theory and information economics. Kimon is currently serving in the high level advisory committee to the Greek government on AI regulation and implementation. In 2020 he served as the Chief Data Scientist of the Greek National COVID-19 Scientific taskforce and a Data Science and Operations Advisor to the Greek Prime Minister. He has been awarded the Wagner Prize for Excellence in Applied Analytics and the Pierskalla Award for contributions to Healthcare Analytics.
URL:https://iora.nus.edu.sg/events/dao-iora-seminar-series-kimon-drakopoulos/
CATEGORIES:IORA Seminar Series
END:VEVENT
END:VCALENDAR